BEGIN:VCALENDAR
VERSION:2.0
PRODID:-//Spatzennest Nidderau - ECPv6.9.0//NONSGML v1.0//EN
CALSCALE:GREGORIAN
METHOD:PUBLISH
X-ORIGINAL-URL:https://www.spatzennest-nidderau.de
X-WR-CALDESC:Veranstaltungen für Spatzennest Nidderau
REFRESH-INTERVAL;VALUE=DURATION:PT1H
X-Robots-Tag:noindex
X-PUBLISHED-TTL:PT1H
BEGIN:VTIMEZONE
TZID:Europe/Berlin
BEGIN:DAYLIGHT
TZOFFSETFROM:+0100
TZOFFSETTO:+0200
TZNAME:CEST
DTSTART:20250330T010000
END:DAYLIGHT
BEGIN:STANDARD
TZOFFSETFROM:+0200
TZOFFSETTO:+0100
TZNAME:CET
DTSTART:20251026T010000
END:STANDARD
END:VTIMEZONE
BEGIN:VEVENT
DTSTART;TZID=Europe/Berlin:20250615T103000
DTEND;TZID=Europe/Berlin:20250615T150000
DTSTAMP:20260424T213017
CREATED:20250508T130456Z
LAST-MODIFIED:20250512T073418Z
UID:2641-1749983400-1749999600@www.spatzennest-nidderau.de
SUMMARY:Sommer-Flohmarkt 2025
DESCRIPTION:Am 15. Juni 2025 findet der Flohmarkt in der Willi-Salzmann-Halle\, Heldenberger Straße 16 in Nidderau statt. Die regulären Öffnungszeiten sind von 10:30 bis 15:00 Uhr.\nSchwangere erhalten bereits ab 10:00 Uhr Einlass.
URL:https://www.spatzennest-nidderau.de/event/sommer-flohmarkt-2025/
LOCATION:Willi-Salzmann-Halle\, Heldenbergr Str. 16\, Nidderau\, 61130\, Deutschland
END:VEVENT
END:VCALENDAR